{
 "currentVersion": 11.5,
 "serviceDescription": "Honning_pr_Cell_img",
 "serviceItemId": "2f0aa7bcb3154f95b217d017802dd968",
 "name": "Honning_pr_Cell_img",
 "description": "",
 "extent": {
  "xmin": 441500,
  "ymin": 6049700.000000009,
  "xmax": 893100,
  "ymax": 6402300.000000009,
  "spatialReference": {
   "wkid": 25832,
   "latestWkid": 25832
  }
 },
 "initialExtent": {
  "xmin": 441500,
  "ymin": 6049700.000000009,
  "xmax": 893100,
  "ymax": 6402300.000000009,
  "spatialReference": {
   "wkid": 25832,
   "latestWkid": 25832
  }
 },
 "fullExtent": {
  "xmin": 441500,
  "ymin": 6049700.000000009,
  "xmax": 893100,
  "ymax": 6402300.000000009,
  "spatialReference": {
   "wkid": 25832,
   "latestWkid": 25832
  }
 },
 "sortableFields": "",
 "bandCount": 1,
 "pixelType": "F32",
 "minValues": [
  0
 ],
 "maxValues": [
  12.5
 ],
 "meanValues": [
  1.34950819512
 ],
 "stdvValues": [
  3.024360244528
 ],
 "serviceProperties": "Center<\/MosaicMethod>First<\/MosaicOperator>true<\/SortAscending><\/LockImageID><\/TileOrderField>0<\/TileOrderBase>0,000000<\/AvgImageSpacingX>0,000000<\/AvgImageSpacingY>0.0<\/ViewPointX>0.0<\/ViewPointY>0.0<\/ViewPointDefShiftX>0.0<\/ViewPointDefShiftY>None<\/CompressionMethod>75<\/CompressionQuality>0,010000<\/CompressionTolerance>Bilinear<\/SamplingMethod><\/ImageServiceProperties><\/ImageServer>",
 "allowedFields": "",
 "hasMultidimensions": false,
 "pixelSizeX": 25,
 "pixelSizeY": 25,
 "meanPixelSize": 25,
 "datasetFormat": "IMAGINE Image",
 "uncompressedSize": 1019098624,
 "blockWidth": 64,
 "blockHeight": 64,
 "compressionType": "None",
 "bandNames": [
  "Layer_1"
 ],
 "allowCopy": true,
 "allowAnalysis": true,
 "itemAccess": false,
 "inspectionCapabilities": "",
 "noDataValue": -3.4028234663852886E38,
 "noDataValues": [
  -3.4028234663852886E38
 ],
 "minPixelSize": 0,
 "maxPixelSize": 0,
 "copyrightText": "",
 "serviceDataType": "esriImageServiceDataTypeGeneric",
 "serviceSourceType": "esriImageServiceSourceTypeDataset",
 "objectIdField": "",
 "fields": [],
 "capabilities": "Image,Metadata,Mensuration",
 "defaultMosaicMethod": "Center",
 "allowedMosaicMethods": "",
 "sortField": "",
 "sortValue": null,
 "sortAscending": true,
 "mosaicOperator": "First",
 "defaultCompressionQuality": 75,
 "defaultResamplingMethod": "Bilinear",
 "maxImageHeight": 4100,
 "maxImageWidth": 15000,
 "allowRasterFunction": true,
 "rasterFunctionInfos": [
  {
   "name": "None",
   "description": "",
   "help": ""
  }
 ],
 "rasterTypeInfos": [
  {
   "name": "Raster Dataset",
   "description": "Supports all ArcGIS Raster Datasets",
   "help": ""
  }
 ],
 "mensurationCapabilities": "Basic",
 "hasHistograms": true,
 "hasColormap": false,
 "hasRasterAttributeTable": false,
 "minScale": 0,
 "maxScale": 0,
 "exportTilesAllowed": false,
 "supportsStatistics": false,
 "supportsAdvancedQueries": false,
 "editFieldsInfo": null,
 "ownershipBasedAccessControlForRasters": null,
 "allowComputeTiePoints": false,
 "useStandardizedQueries": true,
 "advancedQueryCapabilities": {
  "useStandardizedQueries": true,
  "supportsStatistics": false,
  "supportsOrderBy": false,
  "supportsDistinct": false,
  "supportsPagination": false
 },
 "spatialReference": {
  "wkid": 25832,
  "latestWkid": 25832
 }
}
