The updated topsoil OC concentration map for the study area (Peat2022 map) was generated using a robust machine learning method (Cubist) and incorporating updated SINKS-2009/2010 (using the topsoil OC projection model developed from the SINKS-2020/2021 dataset) and the new SINKS-2022 dataset. We also employ an array of environmental data. The new map was compiled at a 10-m resolution. <\/SPAN><\/P><\/DIV><\/DIV><\/DIV>",
"serviceItemId": "7d78f9515a3847d2b7b4d39f292a5a3d",
"name": "peat2022_imk2022",
"description": "The updated topsoil OC concentration map for the study area (Peat2022 map) was generated using a robust machine learning method (Cubist) and incorporating updated SINKS-2009/2010 (using the topsoil OC projection model developed from the SINKS-2020/2021 dataset) and the new SINKS-2022 dataset. We also employ an array of environmental data. The new map was compiled at a 10-m resolution. <\/SPAN><\/P><\/DIV><\/DIV><\/DIV>",
"extent": {
"xmin": 440000,
"ymin": 6048050,
"xmax": 895090,
"ymax": 6403650,
"spatialReference": {
"wkid": 25832,
"latestWkid": 25832
}
},
"initialExtent": {
"xmin": 440000,
"ymin": 6048050,
"xmax": 895090,
"ymax": 6403650,
"spatialReference": {
"wkid": 25832,
"latestWkid": 25832
}
},
"fullExtent": {
"xmin": 440000,
"ymin": 6048050,
"xmax": 895090,
"ymax": 6403650,
"spatialReference": {
"wkid": 25832,
"latestWkid": 25832
}
},
"sortableFields": "",
"bandCount": 1,
"pixelType": "F32",
"minValues": [
0
],
"maxValues": [
60
],
"meanValues": [
0.095066245095355
],
"stdvValues": [
1.2850634382461
],
"serviceProperties": "Center<\/MosaicMethod>First<\/MosaicOperator>true<\/SortAscending><\/LockImageID><\/TileOrderField>0<\/TileOrderBase>0,000000<\/AvgImageSpacingX>0,000000<\/AvgImageSpacingY>0.0<\/ViewPointX>0.0<\/ViewPointY>0.0<\/ViewPointDefShiftX>0.0<\/ViewPointDefShiftY>None<\/CompressionMethod>75<\/CompressionQuality>0,010000<\/CompressionTolerance>Bilinear<\/SamplingMethod><\/ImageServiceProperties><\/ImageServer>",
"allowedFields": "",
"hasMultidimensions": false,
"pixelSizeX": 10,
"pixelSizeY": 10,
"meanPixelSize": 10,
"datasetFormat": "TIFF",
"uncompressedSize": 6473200160,
"blockWidth": 128,
"blockHeight": 128,
"compressionType": "None",
"bandNames": [
"Band_1"
],
"allowCopy": true,
"allowAnalysis": true,
"itemAccess": false,
"inspectionCapabilities": "",
"minPixelSize": 0,
"maxPixelSize": 0,
"copyrightText": "Institute of Agroecology, Aarhus University",
"serviceDataType": "esriImageServiceDataTypeGeneric",
"serviceSourceType": "esriImageServiceSourceTypeDataset",
"objectIdField": "",
"fields": [],
"capabilities": "Image,Metadata,Mensuration",
"defaultMosaicMethod": "Center",
"allowedMosaicMethods": "",
"sortField": "",
"sortValue": null,
"sortAscending": true,
"mosaicOperator": "First",
"defaultCompressionQuality": 75,
"defaultResamplingMethod": "Bilinear",
"maxImageHeight": 4100,
"maxImageWidth": 15000,
"allowRasterFunction": true,
"rasterFunctionInfos": [
{
"name": "None",
"description": "",
"help": ""
}
],
"rasterTypeInfos": [
{
"name": "Raster Dataset",
"description": "Supports all ArcGIS Raster Datasets",
"help": ""
}
],
"mensurationCapabilities": "Basic",
"hasHistograms": true,
"hasColormap": false,
"hasRasterAttributeTable": false,
"minScale": 0,
"maxScale": 0,
"exportTilesAllowed": false,
"supportsStatistics": false,
"supportsAdvancedQueries": false,
"editFieldsInfo": null,
"ownershipBasedAccessControlForRasters": null,
"allowComputeTiePoints": false,
"useStandardizedQueries": true,
"advancedQueryCapabilities": {
"useStandardizedQueries": true,
"supportsStatistics": false,
"supportsOrderBy": false,
"supportsDistinct": false,
"supportsPagination": false
},
"spatialReference": {
"wkid": 25832,
"latestWkid": 25832
}
}