View In:
ArcGIS JavaScript
ArcGIS Online Map Viewer
ArcGIS Earth
Service Description: glorad_40km_krig_m_topo
Name: glorad_40km_krig_m_topo
Description:
Single Fused Map Cache: false
Extent:
XMin: 441577.0802257221
YMin: 6049781.68017621
XMax: 893017.0802257222
YMax: 6402208.88017621
Spatial Reference: 25832
(25832)
LatestVCSWkid(0)
Initial Extent:
XMin: 441577.0802257221
YMin: 6049781.68017621
XMax: 893017.0802257222
YMax: 6402208.88017621
Spatial Reference: 25832
(25832)
LatestVCSWkid(0)
Full Extent:
XMin: 441577.0802257221
YMin: 6049781.68017621
XMax: 893017.0802257222
YMax: 6402208.88017621
Spatial Reference: 25832
(25832)
LatestVCSWkid(0)
Pixel Size X: 30.400000000000006
Pixel Size Y: 30.400000000000016
Band Count: 1
Pixel Type: F32
RasterFunction Infos: {"rasterFunctionInfos": [{
"name": "None",
"description": "",
"help": ""
}]}
Mensuration Capabilities: Basic
Inspection Capabilities:
Has Histograms: true
Has Colormap: false
Has Multi Dimensions : false
Rendering Rule:
Min Scale: 0
Max Scale: 0
Copyright Text:
Service Data Type: esriImageServiceDataTypeGeneric
Min Values: 1562.977294921875
Max Values: 3624.477294921875
Mean Values: 3085.1681205851664
Standard Deviation Values: 74.59022455116218
Object ID Field:
Fields:
None
Default Mosaic Method: Center
Allowed Mosaic Methods:
SortField:
SortValue: null
Mosaic Operator: First
Default Compression Quality: 75
Default Resampling Method: Bilinear
Max Record Count: null
Max Image Height: 4100
Max Image Width: 15000
Max Download Image Count: null
Max Mosaic Image Count: null
Allow Raster Function: true
Allow Copy: true
Allow Analysis: true
Allow Compute TiePoints: false
Supports Statistics: false
Supports Advanced Queries: false
Use StandardizedQueries: true
Raster Type Infos:
Name: Raster Dataset
Description: Supports all ArcGIS Raster Datasets
Help:
Has Raster Attribute Table: false
Edit Fields Info: null
Ownership Based AccessControl For Rasters: null
Child Resources:
Info
Histograms
Statistics
Key Properties
Legend
Raster Function Infos
Supported Operations:
Export Image
Identify
Measure
Compute Histograms
Compute Statistics Histograms
Get Samples
Compute Class Statistics
Query Boundary
Compute Pixel Location
Compute Angles
Validate
Project