View In:
ArcGIS JavaScript
ArcGIS Online Map Viewer
ArcGIS Earth
Service Description: The updated topsoil OC concentration map for the study area (Peat2022 map) was generated using a robust machine learning method (Cubist) and incorporating updated SINKS-2009/2010 (using the topsoil OC projection model developed from the SINKS-2020/2021 dataset) and the new SINKS-2022 dataset. We also employ an array of environmental data. The new map was compiled at a 10-m resolution.
Name: peat2022_imk2022
Description: The updated topsoil OC concentration map for the study area (Peat2022 map) was generated using a robust machine learning method (Cubist) and incorporating updated SINKS-2009/2010 (using the topsoil OC projection model developed from the SINKS-2020/2021 dataset) and the new SINKS-2022 dataset. We also employ an array of environmental data. The new map was compiled at a 10-m resolution.
Single Fused Map Cache: false
Extent:
XMin: 440000.0
YMin: 6048050.0
XMax: 895090.0
YMax: 6403650.0
Spatial Reference: 25832
(25832)
LatestVCSWkid(0)
Initial Extent:
XMin: 440000.0
YMin: 6048050.0
XMax: 895090.0
YMax: 6403650.0
Spatial Reference: 25832
(25832)
LatestVCSWkid(0)
Full Extent:
XMin: 440000.0
YMin: 6048050.0
XMax: 895090.0
YMax: 6403650.0
Spatial Reference: 25832
(25832)
LatestVCSWkid(0)
Pixel Size X: 10.0
Pixel Size Y: 10.0
Band Count: 1
Pixel Type: F32
RasterFunction Infos: {"rasterFunctionInfos": [{
"name": "None",
"description": "",
"help": ""
}]}
Mensuration Capabilities: Basic
Inspection Capabilities:
Has Histograms: true
Has Colormap: false
Has Multi Dimensions : false
Rendering Rule:
Min Scale: 0
Max Scale: 0
Copyright Text: Institute of Agroecology, Aarhus University
Service Data Type: esriImageServiceDataTypeGeneric
Min Values: 0
Max Values: 60
Mean Values: 0.095066245095355
Standard Deviation Values: 1.2850634382461
Object ID Field:
Fields:
None
Default Mosaic Method: Center
Allowed Mosaic Methods:
SortField:
SortValue: null
Mosaic Operator: First
Default Compression Quality: 75
Default Resampling Method: Bilinear
Max Record Count: null
Max Image Height: 4100
Max Image Width: 15000
Max Download Image Count: null
Max Mosaic Image Count: null
Allow Raster Function: true
Allow Copy: true
Allow Analysis: true
Allow Compute TiePoints: false
Supports Statistics: false
Supports Advanced Queries: false
Use StandardizedQueries: true
Raster Type Infos:
Name: Raster Dataset
Description: Supports all ArcGIS Raster Datasets
Help:
Has Raster Attribute Table: false
Edit Fields Info: null
Ownership Based AccessControl For Rasters: null
Child Resources:
Info
Histograms
Statistics
Key Properties
Legend
Raster Function Infos
Supported Operations:
Export Image
Identify
Measure
Compute Histograms
Compute Statistics Histograms
Get Samples
Compute Class Statistics
Query Boundary
Compute Pixel Location
Compute Angles
Validate
Project